BEGIN:VCALENDAR
VERSION:2.0
PRODID:-//Soul Children - ECPv4.9.13//NONSGML v1.0//EN
CALSCALE:GREGORIAN
METHOD:PUBLISH
X-WR-CALNAME:Soul Children
X-ORIGINAL-URL:https://soulchildren.se
X-WR-CALDESC:Händelser för Soul Children
BEGIN:VTIMEZONE
TZID:Europe/Stockholm
BEGIN:DAYLIGHT
TZOFFSETFROM:+0100
TZOFFSETTO:+0200
TZNAME:CEST
DTSTART:20240331T010000
END:DAYLIGHT
BEGIN:STANDARD
TZOFFSETFROM:+0200
TZOFFSETTO:+0100
TZNAME:CET
DTSTART:20241027T010000
END:STANDARD
END:VTIMEZONE
BEGIN:VEVENT
DTSTART;VALUE=DATE:20240708
DTEND;VALUE=DATE:20240713
DTSTAMP:20260424T135238
CREATED:20240620T114710Z
LAST-MODIFIED:20240620T114710Z
UID:2248-1720396800-1720828799@soulchildren.se
SUMMARY:Soul Children-spår Hönökonferensen
DESCRIPTION:Vi ser fram emot att träffa er på Hönökonferensen! Om ni känner någon som är mellan 9-15 år som är på konferensen\, och är sugen på sång och gemenskap\, tipsa dem om Soul Children-spåret. Man behöver inte vara del i en kör sedan tidigare. Hör av er till isabelle.edsmyr@equmenia.se för mer info. \n
URL:https://soulchildren.se/event/soul-children-spar-honokonferensen/
ATTACH;FMTTYPE=image/jpeg:https://soulchildren.se/wp-content/uploads/2023/08/WhatsApp-Image-2023-08-24-at-14.36.35.jpeg
END:VEVENT
END:VCALENDAR