BEGIN:VCALENDAR
VERSION:2.0
PRODID:-//Soul Children - ECPv4.9.13//NONSGML v1.0//EN
CALSCALE:GREGORIAN
METHOD:PUBLISH
X-WR-CALNAME:Soul Children
X-ORIGINAL-URL:https://soulchildren.se
X-WR-CALDESC:Händelser för Soul Children
BEGIN:VTIMEZONE
TZID:Europe/Stockholm
BEGIN:DAYLIGHT
TZOFFSETFROM:+0100
TZOFFSETTO:+0200
TZNAME:CEST
DTSTART:20240331T010000
END:DAYLIGHT
BEGIN:STANDARD
TZOFFSETFROM:+0200
TZOFFSETTO:+0100
TZNAME:CET
DTSTART:20241027T010000
END:STANDARD
END:VTIMEZONE
BEGIN:VEVENT
DTSTART;VALUE=DATE:20240420
DTEND;VALUE=DATE:20240422
DTSTAMP:20260424T090649
CREATED:20240130T124934Z
LAST-MODIFIED:20240227T141654Z
UID:2177-1713571200-1713743999@soulchildren.se
SUMMARY:Gathering Sollentuna
DESCRIPTION:Välkommen på Gathering i Sollentuna\, Stockholm! 20-21 april ses vi för att sjunga\, umgås och fylla på med energi tillsammans. Ni kommer bl a få träffa Tim Uffindell från UK och Helene Rehaug Byholt från Norge\, vilket vi ser så mycket fram emot! Samling lördagmorgon och avslutning efter gudstjänst söndag lunch. 240 kr/pers för SC-deltagare\, 300kr/pers för övriga. Vi ordnar golvlogi. \nNu har anmälan öppnat! ANMÄL ER HÄR \n  \n
URL:https://soulchildren.se/event/gathering-sollentuna/
LOCATION:Sollentuna\, Stockholm
ATTACH;FMTTYPE=image/jpeg:https://soulchildren.se/wp-content/uploads/2024/01/affisch-sollentuna-gathering-april24-kopia-jpg.webp
ORGANIZER;CN="Soul%20Children%20Sverige":MAILTO:info@soulchildren.se
END:VEVENT
END:VCALENDAR