BEGIN:VCALENDAR
VERSION:2.0
PRODID:-//Soul Children - ECPv4.9.13//NONSGML v1.0//EN
CALSCALE:GREGORIAN
METHOD:PUBLISH
X-WR-CALNAME:Soul Children
X-ORIGINAL-URL:https://soulchildren.se
X-WR-CALDESC:Händelser för Soul Children
BEGIN:VTIMEZONE
TZID:Europe/Stockholm
BEGIN:DAYLIGHT
TZOFFSETFROM:+0100
TZOFFSETTO:+0200
TZNAME:CEST
DTSTART:20230326T010000
END:DAYLIGHT
BEGIN:STANDARD
TZOFFSETFROM:+0200
TZOFFSETTO:+0100
TZNAME:CET
DTSTART:20231029T010000
END:STANDARD
END:VTIMEZONE
BEGIN:VEVENT
DTSTART;VALUE=DATE:20231027
DTEND;VALUE=DATE:20231030
DTSTAMP:20260424T002251
CREATED:20221004T121843Z
LAST-MODIFIED:20231010T085433Z
UID:2031-1698364800-1698623999@soulchildren.se
SUMMARY:Soul Children Sverige festival
DESCRIPTION:Välkommen på Soul Children festival i Sverige – 27-29 oktober i Örebro!\n\nDet kommer att bli en fantastisk helg med Mass Choir-övningar\, öppen konsert på Hjalmar Bergman-teatern\, gudstjänst och separata spår för Children (10-15 år)\, Teens (16-19 år) och vuxna. Gäster är bl. a. LIN D\, Tim Uffindell från Storbrittanien och Oslo Soul Teens. \nAnmälan\nNu är anmälan öppen! Den hålls öppen till 11 september eller tills platserna är slut. När ni anmäler er får ni repertoar i form av låttexter\, spellista och länk till köp av noter till rabatterat pris. Ni får även ett mer detaljerat informationsbrev. Anmälan sker med fördel i två steg: \n\nDu som körledare anmäler dig och din kör\, med ett uppskattat antal soulisar.\nNär du vet vilka deltagare som följer med skickar du in namn och personuppgifter på dessa via Excel-dokument som ni får av oss. Detta sker senast 15 september.Anmäl HÄR\n\nKonsert\nNu kan ni köpa biljetter till helgens storslagna höjdpunkt – konsert med Soul Children Mass Choir på Hjalmar Bergmanteatern! Vi har även gäster som LIN D (SV)\, Oslo Soul Teens och Ragnhild Hiis Ånestad (NO)\, och Tim Uffindell (UK). Kom och ta del av glädjen\, hoppet och tron! \nLördag 28 oktober kl 19.30. Här köper ni biljetter. \n\nSchema\nFREDAG \n18.00  Incheckning\, café och mingel  \n19.30-20.30  Opening party  \n20.30-21.30  Café  \nLÖRDAG \n09.00  Insläpp Hjalmar Bergman Teatern \n09.30  Morgonsamling och lovsång \n10.00  Övningspass 1 – Mass Choir \n11.00  Fruktpaus \n11.15  Övningspass 2 – Mass Choir \n12.15  Lunch – förbeställd wrap på Hjalmar Bergman Teatern \n13.00 Övningspass 3 – olika spår\, Children\, Teens\, Ledare \n14.30  Fika Hjalmar Bergman Teatern \n15.00  Övningspass 4 – Mass Choir (alla tillbaka på teatern igen) \n16.15  Middag på stan \n17.45-18.45  Genrep och efterföljande frukt/fika \n19.30  Konsert – Hjalmar Bergman Teatern \nSÖNDAG \n09.15  Övning och soundcheck Filadelfiakyrkan \n10.30  Fika  \n11.00  Soul Church \n
URL:https://soulchildren.se/event/soul-children-sverige-festival/
LOCATION:Örebro\, Sverige
ATTACH;FMTTYPE=image/png:https://soulchildren.se/wp-content/uploads/2020/02/startbild8.png
ORGANIZER;CN="Soul%20Children%20Sverige":MAILTO:info@soulchildren.se
END:VEVENT
END:VCALENDAR