BEGIN:VCALENDAR
VERSION:2.0
PRODID:-//Soul Children - ECPv4.9.13//NONSGML v1.0//EN
CALSCALE:GREGORIAN
METHOD:PUBLISH
X-WR-CALNAME:Soul Children
X-ORIGINAL-URL:https://soulchildren.se
X-WR-CALDESC:Händelser för Soul Children
BEGIN:VTIMEZONE
TZID:Europe/Stockholm
BEGIN:DAYLIGHT
TZOFFSETFROM:+0100
TZOFFSETTO:+0200
TZNAME:CEST
DTSTART:20230326T010000
END:DAYLIGHT
BEGIN:STANDARD
TZOFFSETFROM:+0200
TZOFFSETTO:+0100
TZNAME:CET
DTSTART:20231029T010000
END:STANDARD
END:VTIMEZONE
BEGIN:VEVENT
DTSTART;VALUE=DATE:20230528
DTEND;VALUE=DATE:20230529
DTSTAMP:20260423T164728
CREATED:20230426T092814Z
LAST-MODIFIED:20230510T120100Z
UID:2074-1685232000-1685318399@soulchildren.se
SUMMARY:Konsert för Göteborg  400 år
DESCRIPTION:Soul Children är med när kyrkorna firar Göteborg 400 år! \nEn kör med flera Soul Childrenkörer sjunger i gudstjänsten och på en utomhusscen utanför Domkyrkan. \nGästinstruktör: Mikaela Häger \n  \n  \n  \n
URL:https://soulchildren.se/event/gathering-goteborg-400-ar/
LOCATION:Domkyrkan\, Göteborg
ATTACH;FMTTYPE=image/png:https://soulchildren.se/wp-content/uploads/2023/04/Soul-Children-gathering-2023-1920-×-1080-px.png
END:VEVENT
END:VCALENDAR